BEGIN:VCALENDAR
VERSION:2.0
PRODID:-// - ECPv6.5.1.3//NONSGML v1.0//EN
CALSCALE:GREGORIAN
METHOD:PUBLISH
X-ORIGINAL-URL:https://osapam.fr/lt
X-WR-CALDESC:Events for 
REFRESH-INTERVAL;VALUE=DURATION:PT1H
X-Robots-Tag:noindex
X-PUBLISHED-TTL:PT1H
BEGIN:VTIMEZONE
TZID:Europe/Paris
BEGIN:DAYLIGHT
TZOFFSETFROM:+0100
TZOFFSETTO:+0200
TZNAME:CEST
DTSTART:20240331T010000
END:DAYLIGHT
BEGIN:STANDARD
TZOFFSETFROM:+0200
TZOFFSETTO:+0100
TZNAME:CET
DTSTART:20241027T010000
END:STANDARD
END:VTIMEZONE
BEGIN:VEVENT
DTSTART;TZID=Europe/Paris:20240312T183000
DTEND;TZID=Europe/Paris:20240312T203000
DTSTAMP:20260423T003134
CREATED:20240227T083941Z
LAST-MODIFIED:20240227T101758Z
UID:4296-1710268200-1710275400@osapam.fr
SUMMARY:Les ateliers Canva
DESCRIPTION:Les ateliers Canva: 2 sessions\n\n\nLe mardi 12 mars à 18h30\nLe mardi 9 avril à 18h30\n\n \nPublic visé : Bénévoles\, dirigeants\, salariés d’association\n \n \nModalités d’ Inscriptions :\nInscription avant 17h00 le vendredi de la semaine antérieure de l’atelier.\n\npar mail à osapam@orange.fr \ntéléphone au 05 49 27 92 43\n\n \nDéroulement de la séance :\n\nPrésentation de la plateforme CANVA\nCréation du compte association CANVA (version pro)\nPrise en main de la plateforme en ligne.\nCréation de documents (affiches\, publications\, flyers…) et modifications\nPartage et diffusion des documents créés
URL:https://osapam.fr/lt/event/les-ateliers-canva/
LOCATION:Maison de pays\, 2 place Bujault\, Melle\, 79500\, France
CATEGORIES:Ateliers Techniques
ATTACH;FMTTYPE=image/jpeg:https://osapam.fr/wp-content/uploads/2024/02/Design-sans-titre-1-scaled.jpg
END:VEVENT
BEGIN:VEVENT
DTSTART;TZID=Europe/Paris:20240327T183000
DTEND;TZID=Europe/Paris:20240327T203000
DTSTAMP:20260423T003134
CREATED:20240227T110818Z
LAST-MODIFIED:20240227T114252Z
UID:4344-1711564200-1711571400@osapam.fr
SUMMARY:Site internet: Améliorer votre référencement
DESCRIPTION:Améliorer votre référencement: 2 sessions\n\n\nLe mercredi 27 mars à 18h30\nLe mercredi 10 avril à 18h30\n\n\nIntervenant: Olivier LEJEUNE\n\nPublic visé : Bénévoles\, dirigeants\, salariés d’association\, ayant un site internet ou en cours de création.\n\n\nModalités d’ Inscriptions :\nInscription avant 17h00 le vendredi de la semaine antérieure de l’atelier.\n\npar mail à osapam@orange.fr\ntéléphone au 05 49 27 92 43
URL:https://osapam.fr/lt/event/site-internet-ameliorer-votre-referencement/
LOCATION:Maison de pays\, 2 place Bujault\, Melle\, 79500\, France
CATEGORIES:Ateliers Techniques
ATTACH;FMTTYPE=image/jpeg:https://osapam.fr/wp-content/uploads/2024/02/Referencement.jpg
END:VEVENT
END:VCALENDAR