BEGIN:VCALENDAR
VERSION:2.0
PRODID:-// - ECPv6.5.1.3//NONSGML v1.0//EN
CALSCALE:GREGORIAN
METHOD:PUBLISH
X-ORIGINAL-URL:https://osapam.fr/it
X-WR-CALDESC:Eventi per 
REFRESH-INTERVAL;VALUE=DURATION:PT1H
X-Robots-Tag:noindex
X-PUBLISHED-TTL:PT1H
BEGIN:VTIMEZONE
TZID:Europe/Paris
BEGIN:DAYLIGHT
TZOFFSETFROM:+0100
TZOFFSETTO:+0200
TZNAME:CEST
DTSTART:20240331T010000
END:DAYLIGHT
BEGIN:STANDARD
TZOFFSETFROM:+0200
TZOFFSETTO:+0100
TZNAME:CET
DTSTART:20241027T010000
END:STANDARD
END:VTIMEZONE
BEGIN:VEVENT
DTSTART;TZID=Europe/Paris:20240228T080000
DTEND;TZID=Europe/Paris:20240228T170000
DTSTAMP:20260423T055927
CREATED:20240228T102402Z
LAST-MODIFIED:20240228T102402Z
UID:4387-1709107200-1709139600@osapam.fr
SUMMARY:Les rendez-vous thématiques: "L'emploi dans les associations"
DESCRIPTION:L’emploi dans les associations \n\n\nLe mardi 11 juin à 18h30\n\n\nPublic visé : Bénévoles\, dirigeants\, salariés d’association\n\n\nModalités d’ Inscriptions :\nInscription avant 17h00 le vendredi de la semaine antérieure de l’atelier.\n\npar mail à osapam@orange.fr\ntéléphone au 05 49 27 92 43\n\n\nDéroulement de la séance :
URL:https://osapam.fr/it/event/les-rendez-vous-thematiques-lemploi-dans-les-associations/
CATEGORIES:Rendez-vous thématique
ATTACH;FMTTYPE=image/jpeg:https://osapam.fr/wp-content/uploads/2024/02/lemploi-dans-les-associations.jpg
END:VEVENT
END:VCALENDAR